Package: hca Version: 1.15.0 Command: /Library/Frameworks/R.framework/Resources/bin/R CMD build --keep-empty-dirs --no-resave-data hca StartedAt: 2025-02-09 17:02:15 -0500 (Sun, 09 Feb 2025) EndedAt: 2025-02-09 17:02:37 -0500 (Sun, 09 Feb 2025) EllapsedTime: 21.9 seconds RetCode: 1 Status: ERROR PackageFile: None PackageFileSize: NA