Package: hca Version: 1.15.0 Command: /Library/Frameworks/R.framework/Resources/bin/R CMD INSTALL hca StartedAt: 2025-02-03 15:30:45 -0500 (Mon, 03 Feb 2025) EndedAt: 2025-02-03 15:30:55 -0500 (Mon, 03 Feb 2025) EllapsedTime: 9.8 seconds RetCode: 0 Status: OK