Package: hca Version: 1.15.0 Command: /home/biocbuild/bbs-3.21-bioc/R/bin/R CMD build --keep-empty-dirs --no-resave-data hca StartedAt: 2025-02-09 17:35:27 -0500 (Sun, 09 Feb 2025) EndedAt: 2025-02-09 17:35:46 -0500 (Sun, 09 Feb 2025) EllapsedTime: 19.0 seconds RetCode: 1 Status: ERROR PackageFile: None PackageFileSize: NA