Package: hca Version: 1.15.0 Command: /home/biocbuild/bbs-3.21-bioc/R/bin/R CMD INSTALL hca StartedAt: 2025-02-09 15:09:43 -0500 (Sun, 09 Feb 2025) EndedAt: 2025-02-09 15:09:55 -0500 (Sun, 09 Feb 2025) EllapsedTime: 11.5 seconds RetCode: 0 Status: OK