Package: hca Version: 1.15.0 Command: rm -rf hca.buildbin-libdir && mkdir hca.buildbin-libdir && E:\biocbuild\bbs-3.21-bioc\R\bin\R.exe CMD INSTALL --build --library=hca.buildbin-libdir hca_1.15.0.tar.gz StartedAt: 2025-02-01 07:23:34 -0500 (Sat, 01 Feb 2025) EndedAt: 2025-02-01 07:24:05 -0500 (Sat, 01 Feb 2025) EllapsedTime: 30.8 seconds RetCode: 0 Status: OK PackageFile: hca_1.15.0.zip PackageFileSize: 599.2 KiB