Package: hca Version: 1.15.0 Command: chmod a+r hca -R && E:\biocbuild\bbs-3.21-bioc\R\bin\R.exe CMD build --keep-empty-dirs --no-resave-data hca StartedAt: 2025-02-09 19:11:29 -0500 (Sun, 09 Feb 2025) EndedAt: 2025-02-09 19:12:06 -0500 (Sun, 09 Feb 2025) EllapsedTime: 36.7 seconds RetCode: 1 Status: ERROR PackageFile: None PackageFileSize: NA