Package: hca Version: 1.15.0 Command: E:\biocbuild\bbs-3.21-bioc\R\bin\R.exe CMD check --no-multiarch --install=check:hca.install-out.txt --library=E:\biocbuild\bbs-3.21-bioc\R\library --no-vignettes --timings hca_1.15.0.tar.gz StartedAt: 2025-02-01 01:32:44 -0500 (Sat, 01 Feb 2025) EndedAt: 2025-02-01 01:34:04 -0500 (Sat, 01 Feb 2025) EllapsedTime: 80.1 seconds RetCode: 1 Status: ERROR CheckDir: hca.Rcheck Warnings: NA