Package: hdxmsqc Version: 1.3.0 Command: /home/biocbuild/R/R/bin/R CMD INSTALL hdxmsqc StartedAt: 2025-01-29 20:08:34 -0000 (Wed, 29 Jan 2025) EndedAt: 2025-01-29 20:09:14 -0000 (Wed, 29 Jan 2025) EllapsedTime: 40.1 seconds RetCode: 0 Status: OK