Package: hdxmsqc Version: 1.3.0 Command: rm -rf hdxmsqc.buildbin-libdir && mkdir hdxmsqc.buildbin-libdir && /Users/biocbuild/BBS/utils/build-universal.sh hdxmsqc_1.3.0.tar.gz /Library/Frameworks/R.framework/Resources/bin/R hdxmsqc.buildbin-libdir StartedAt: 2025-02-10 00:57:17 -0500 (Mon, 10 Feb 2025) EndedAt: 2025-02-10 00:58:03 -0500 (Mon, 10 Feb 2025) EllapsedTime: 46.0 seconds RetCode: 0 Status: OK PackageFile: hdxmsqc_1.3.0.tgz PackageFileSize: 4.671 MiB