Package: hdxmsqc Version: 1.3.0 Command: /Library/Frameworks/R.framework/Resources/bin/R CMD build --keep-empty-dirs --no-resave-data hdxmsqc StartedAt: 2025-02-09 17:02:28 -0500 (Sun, 09 Feb 2025) EndedAt: 2025-02-09 17:06:54 -0500 (Sun, 09 Feb 2025) EllapsedTime: 266.2 seconds RetCode: 0 Status: OK PackageFile: hdxmsqc_1.3.0.tar.gz PackageFileSize: 4.567 MiB