Package: hdxmsqc Version: 1.3.0 Command: /Library/Frameworks/R.framework/Resources/bin/R CMD check --install=check:hdxmsqc.install-out.txt --library=/Library/Frameworks/R.framework/Resources/library --no-vignettes --timings hdxmsqc_1.3.0.tar.gz StartedAt: 2025-02-09 21:13:08 -0500 (Sun, 09 Feb 2025) EndedAt: 2025-02-09 21:17:39 -0500 (Sun, 09 Feb 2025) EllapsedTime: 270.6 seconds RetCode: 0 Status: OK CheckDir: hdxmsqc.Rcheck Warnings: 0