Package: hdxmsqc Version: 1.3.0 Command: /home/biocbuild/bbs-3.21-bioc/R/bin/R CMD INSTALL hdxmsqc StartedAt: 2025-02-09 15:34:18 -0500 (Sun, 09 Feb 2025) EndedAt: 2025-02-09 15:34:47 -0500 (Sun, 09 Feb 2025) EllapsedTime: 29.1 seconds RetCode: 0 Status: OK