Package: hdxmsqc Version: 1.3.0 Command: rm -rf hdxmsqc.buildbin-libdir && mkdir hdxmsqc.buildbin-libdir && E:\biocbuild\bbs-3.21-bioc\R\bin\R.exe CMD INSTALL --build --library=hdxmsqc.buildbin-libdir hdxmsqc_1.3.0.tar.gz StartedAt: 2025-02-10 07:54:40 -0500 (Mon, 10 Feb 2025) EndedAt: 2025-02-10 07:55:20 -0500 (Mon, 10 Feb 2025) EllapsedTime: 40.0 seconds RetCode: 0 Status: OK PackageFile: hdxmsqc_1.3.0.zip PackageFileSize: 3.296 MiB