Package: hdxmsqc Version: 1.3.0 Command: chmod a+r hdxmsqc -R && E:\biocbuild\bbs-3.21-bioc\R\bin\R.exe CMD build --keep-empty-dirs --no-resave-data hdxmsqc StartedAt: 2025-02-09 19:11:49 -0500 (Sun, 09 Feb 2025) EndedAt: 2025-02-09 19:17:51 -0500 (Sun, 09 Feb 2025) EllapsedTime: 362.0 seconds RetCode: 0 Status: OK PackageFile: hdxmsqc_1.3.0.tar.gz PackageFileSize: 3.208 MiB