Package: heatmaps Version: 1.31.0 Command: rm -rf heatmaps.buildbin-libdir && mkdir heatmaps.buildbin-libdir && /Users/biocbuild/BBS/utils/build-universal.sh heatmaps_1.31.0.tar.gz /Library/Frameworks/R.framework/Resources/bin/R heatmaps.buildbin-libdir StartedAt: 2025-02-09 22:17:09 -0500 (Sun, 09 Feb 2025) EndedAt: 2025-02-09 22:17:18 -0500 (Sun, 09 Feb 2025) EllapsedTime: 8.2 seconds RetCode: 0 Status: OK PackageFile: heatmaps_1.31.0.tgz PackageFileSize: 8.987 MiB