Package: heatmaps Version: 1.31.0 Command: /Library/Frameworks/R.framework/Resources/bin/R CMD build --keep-empty-dirs --no-resave-data heatmaps StartedAt: 2025-02-09 16:35:35 -0500 (Sun, 09 Feb 2025) EndedAt: 2025-02-09 16:36:08 -0500 (Sun, 09 Feb 2025) EllapsedTime: 33.3 seconds RetCode: 0 Status: OK PackageFile: heatmaps_1.31.0.tar.gz PackageFileSize: 8.738 MiB