Package: heatmaps Version: 1.31.0 Command: /Library/Frameworks/R.framework/Resources/bin/R CMD INSTALL heatmaps StartedAt: 2025-02-12 15:14:53 -0500 (Wed, 12 Feb 2025) EndedAt: 2025-02-12 15:14:59 -0500 (Wed, 12 Feb 2025) EllapsedTime: 6.7 seconds RetCode: 0 Status: OK