Package: heatmaps Version: 1.31.0 Command: /home/biocbuild/bbs-3.21-bioc/R/bin/R CMD build --keep-empty-dirs --no-resave-data heatmaps StartedAt: 2025-02-12 17:32:34 -0500 (Wed, 12 Feb 2025) EndedAt: 2025-02-12 17:34:00 -0500 (Wed, 12 Feb 2025) EllapsedTime: 85.8 seconds RetCode: 0 Status: OK PackageFile: heatmaps_1.31.0.tar.gz PackageFileSize: 8.316 MiB