Package: heatmaps Version: 1.31.0 Command: chmod a+r heatmaps -R && E:\biocbuild\bbs-3.21-bioc\R\bin\R.exe CMD build --keep-empty-dirs --no-resave-data heatmaps StartedAt: 2025-02-09 19:11:51 -0500 (Sun, 09 Feb 2025) EndedAt: 2025-02-09 19:14:32 -0500 (Sun, 09 Feb 2025) EllapsedTime: 161.1 seconds RetCode: 0 Status: OK PackageFile: heatmaps_1.31.0.tar.gz PackageFileSize: 8.088 MiB