Package: hermes Version: 1.11.0 Command: /home/biocbuild/R/R/bin/R CMD build --keep-empty-dirs --no-resave-data hermes StartedAt: 2025-01-28 23:33:12 -0000 (Tue, 28 Jan 2025) EndedAt: 2025-01-28 23:35:32 -0000 (Tue, 28 Jan 2025) EllapsedTime: 140.1 seconds RetCode: 0 Status: OK PackageFile: hermes_1.11.0.tar.gz PackageFileSize: 3.537 MiB