Package: hermes Version: 1.11.0 Command: /home/biocbuild/R/R/bin/R CMD check --install=check:hermes.install-out.txt --library=/home/biocbuild/R/R/site-library --no-vignettes --timings hermes_1.11.0.tar.gz StartedAt: 2025-01-28 11:25:53 -0000 (Tue, 28 Jan 2025) EndedAt: 2025-01-28 11:35:55 -0000 (Tue, 28 Jan 2025) EllapsedTime: 601.5 seconds RetCode: 0 Status: WARNINGS CheckDir: hermes.Rcheck Warnings: 7