Package: hermes Version: 1.11.0 Command: /Library/Frameworks/R.framework/Resources/bin/R CMD build --keep-empty-dirs --no-resave-data hermes StartedAt: 2025-02-09 17:03:07 -0500 (Sun, 09 Feb 2025) EndedAt: 2025-02-09 17:05:06 -0500 (Sun, 09 Feb 2025) EllapsedTime: 118.6 seconds RetCode: 0 Status: OK PackageFile: hermes_1.11.0.tar.gz PackageFileSize: 4 MiB