Package: hermes Version: 1.11.0 Command: /Library/Frameworks/R.framework/Resources/bin/R CMD check --install=check:hermes.install-out.txt --library=/Library/Frameworks/R.framework/Resources/library --no-vignettes --timings hermes_1.11.0.tar.gz StartedAt: 2025-02-09 21:13:48 -0500 (Sun, 09 Feb 2025) EndedAt: 2025-02-09 21:22:27 -0500 (Sun, 09 Feb 2025) EllapsedTime: 518.3 seconds RetCode: 0 Status: OK CheckDir: hermes.Rcheck Warnings: 0