Package: hermes Version: 1.11.0 Command: /Library/Frameworks/R.framework/Resources/bin/R CMD INSTALL hermes StartedAt: 2025-02-09 15:20:14 -0500 (Sun, 09 Feb 2025) EndedAt: 2025-02-09 15:21:19 -0500 (Sun, 09 Feb 2025) EllapsedTime: 65.2 seconds RetCode: 0 Status: OK