Package: hermes Version: 1.11.0 Command: /home/biocbuild/bbs-3.21-bioc/R/bin/R CMD build --keep-empty-dirs --no-resave-data hermes StartedAt: 2025-02-09 17:36:39 -0500 (Sun, 09 Feb 2025) EndedAt: 2025-02-09 17:38:13 -0500 (Sun, 09 Feb 2025) EllapsedTime: 94.2 seconds RetCode: 0 Status: OK PackageFile: hermes_1.11.0.tar.gz PackageFileSize: 4.28 MiB