Package: hermes Version: 1.11.0 Command: /home/biocbuild/bbs-3.21-bioc/R/bin/R CMD check --install=check:hermes.install-out.txt --library=/home/biocbuild/bbs-3.21-bioc/R/site-library --timings hermes_1.11.0.tar.gz StartedAt: 2025-02-12 23:04:50 -0500 (Wed, 12 Feb 2025) EndedAt: 2025-02-12 23:13:33 -0500 (Wed, 12 Feb 2025) EllapsedTime: 522.9 seconds RetCode: 0 Status: OK CheckDir: hermes.Rcheck Warnings: 0