############################################################################## ############################################################################## ### ### Running command: ### ### rm -rf hermes.buildbin-libdir && mkdir hermes.buildbin-libdir && E:\biocbuild\bbs-3.21-bioc\R\bin\R.exe CMD INSTALL --build --library=hermes.buildbin-libdir hermes_1.11.0.tar.gz ### ############################################################################## ############################################################################## * installing *source* package 'hermes' ... ** this is package 'hermes' version '1.11.0' ** using staged installation ** R ** data *** moving datasets to lazyload DB ** inst ** byte-compile and prepare package for lazy loading Creating a new generic function for 'filter' in package 'hermes' ** help *** installing help indices *** copying figures ** building package indices ** installing vignettes ** testing if installed package can be loaded from temporary location ** testing if installed package can be loaded from final location ** testing if installed package keeps a record of temporary installation path * MD5 sums packaged installation of 'hermes' as hermes_1.11.0.zip * DONE (hermes)