Package: hermes Version: 1.11.0 Command: rm -rf hermes.buildbin-libdir && mkdir hermes.buildbin-libdir && E:\biocbuild\bbs-3.21-bioc\R\bin\R.exe CMD INSTALL --build --library=hermes.buildbin-libdir hermes_1.11.0.tar.gz StartedAt: 2025-02-13 08:06:07 -0500 (Thu, 13 Feb 2025) EndedAt: 2025-02-13 08:07:28 -0500 (Thu, 13 Feb 2025) EllapsedTime: 80.6 seconds RetCode: 0 Status: OK PackageFile: hermes_1.11.0.zip PackageFileSize: 3.451 MiB