Package: hermes Version: 1.11.0 Command: chmod a+r hermes -R && E:\biocbuild\bbs-3.21-bioc\R\bin\R.exe CMD build --keep-empty-dirs --no-resave-data hermes StartedAt: 2025-02-09 19:12:20 -0500 (Sun, 09 Feb 2025) EndedAt: 2025-02-09 19:15:35 -0500 (Sun, 09 Feb 2025) EllapsedTime: 194.9 seconds RetCode: 0 Status: OK PackageFile: hermes_1.11.0.tar.gz PackageFileSize: 3.373 MiB