Package: hermes Version: 1.11.0 Command: E:\biocbuild\bbs-3.21-bioc\R\bin\R.exe CMD INSTALL hermes StartedAt: 2025-02-09 16:23:17 -0500 (Sun, 09 Feb 2025) EndedAt: 2025-02-09 16:24:48 -0500 (Sun, 09 Feb 2025) EllapsedTime: 91.3 seconds RetCode: 0 Status: OK