Package: hicVennDiagram Version: 1.5.1 Command: /home/biocbuild/R/R/bin/R CMD build --keep-empty-dirs --no-resave-data hicVennDiagram StartedAt: 2025-01-28 23:35:57 -0000 (Tue, 28 Jan 2025) EndedAt: 2025-01-28 23:38:08 -0000 (Tue, 28 Jan 2025) EllapsedTime: 131.0 seconds RetCode: 0 Status: OK PackageFile: hicVennDiagram_1.5.1.tar.gz PackageFileSize: 988.6 KiB