Package: hicVennDiagram Version: 1.5.1 Command: rm -rf hicVennDiagram.buildbin-libdir && mkdir hicVennDiagram.buildbin-libdir && /Users/biocbuild/BBS/utils/build-universal.sh hicVennDiagram_1.5.1.tar.gz /Library/Frameworks/R.framework/Resources/bin/R hicVennDiagram.buildbin-libdir StartedAt: 2025-02-10 00:57:44 -0500 (Mon, 10 Feb 2025) EndedAt: 2025-02-10 00:58:35 -0500 (Mon, 10 Feb 2025) EllapsedTime: 51.2 seconds RetCode: 0 Status: OK PackageFile: hicVennDiagram_1.5.1.tgz PackageFileSize: 1.451 MiB