Package: hicVennDiagram Version: 1.5.1 Command: /Library/Frameworks/R.framework/Resources/bin/R CMD check --install=check:hicVennDiagram.install-out.txt --library=/Library/Frameworks/R.framework/Resources/library --no-vignettes --timings hicVennDiagram_1.5.1.tar.gz StartedAt: 2025-02-09 21:15:38 -0500 (Sun, 09 Feb 2025) EndedAt: 2025-02-09 21:20:29 -0500 (Sun, 09 Feb 2025) EllapsedTime: 290.9 seconds RetCode: 0 Status: OK CheckDir: hicVennDiagram.Rcheck Warnings: 0