Package: hicVennDiagram Version: 1.5.2 Command: /home/biocbuild/bbs-3.21-bioc/R/bin/R CMD build --keep-empty-dirs --no-resave-data hicVennDiagram StartedAt: 2025-02-12 17:35:00 -0500 (Wed, 12 Feb 2025) EndedAt: 2025-02-12 17:36:54 -0500 (Wed, 12 Feb 2025) EllapsedTime: 114.1 seconds RetCode: 0 Status: OK PackageFile: hicVennDiagram_1.5.2.tar.gz PackageFileSize: 1.122 MiB