Package: hicVennDiagram Version: 1.5.1 Command: /home/biocbuild/bbs-3.21-bioc/R/bin/R CMD INSTALL hicVennDiagram StartedAt: 2025-02-09 15:26:17 -0500 (Sun, 09 Feb 2025) EndedAt: 2025-02-09 15:26:51 -0500 (Sun, 09 Feb 2025) EllapsedTime: 33.7 seconds RetCode: 0 Status: OK