Package: hicVennDiagram Version: 1.5.1 Command: chmod a+r hicVennDiagram -R && E:\biocbuild\bbs-3.21-bioc\R\bin\R.exe CMD build --keep-empty-dirs --no-resave-data hicVennDiagram StartedAt: 2025-02-09 19:14:12 -0500 (Sun, 09 Feb 2025) EndedAt: 2025-02-09 19:16:38 -0500 (Sun, 09 Feb 2025) EllapsedTime: 146.3 seconds RetCode: 0 Status: OK PackageFile: hicVennDiagram_1.5.1.tar.gz PackageFileSize: 852.7 KiB