Package: hicVennDiagram Version: 1.5.1 Command: E:\biocbuild\bbs-3.21-bioc\R\bin\R.exe CMD check --no-multiarch --install=check:hicVennDiagram.install-out.txt --library=E:\biocbuild\bbs-3.21-bioc\R\library --no-vignettes --timings hicVennDiagram_1.5.1.tar.gz StartedAt: 2025-02-10 01:56:14 -0500 (Mon, 10 Feb 2025) EndedAt: 2025-02-10 02:01:23 -0500 (Mon, 10 Feb 2025) EllapsedTime: 309.2 seconds RetCode: 0 Status: OK CheckDir: hicVennDiagram.Rcheck Warnings: 0