Package: hierinf Version: 1.25.0 Command: /Library/Frameworks/R.framework/Resources/bin/R CMD build --keep-empty-dirs --no-resave-data hierinf StartedAt: 2025-02-09 17:05:06 -0500 (Sun, 09 Feb 2025) EndedAt: 2025-02-09 17:06:39 -0500 (Sun, 09 Feb 2025) EllapsedTime: 93.6 seconds RetCode: 0 Status: OK PackageFile: hierinf_1.25.0.tar.gz PackageFileSize: 432.1 KiB