Package: hummingbird Version: 1.17.0 Command: /home/biocbuild/bbs-3.21-bioc/R/bin/R CMD build --keep-empty-dirs --no-resave-data hummingbird StartedAt: 2025-02-04 17:38:58 -0500 (Tue, 04 Feb 2025) EndedAt: 2025-02-04 17:39:02 -0500 (Tue, 04 Feb 2025) EllapsedTime: 4.0 seconds RetCode: 1 Status: ERROR PackageFile: None PackageFileSize: NA