Package: hummingbird Version: 1.17.0 Command: /home/biocbuild/bbs-3.21-bioc/R/bin/R CMD check --install=check:hummingbird.install-out.txt --library=/home/biocbuild/bbs-3.21-bioc/R/site-library --timings hummingbird_1.17.0.tar.gz StartedAt: 2024-11-13 01:06:50 -0500 (Wed, 13 Nov 2024) EndedAt: 2024-11-13 01:12:46 -0500 (Wed, 13 Nov 2024) EllapsedTime: 355.3 seconds RetCode: 0 Status: OK CheckDir: hummingbird.Rcheck Warnings: 0