Package: hummingbird Version: 1.17.0 Command: /home/biocbuild/bbs-3.21-bioc/R/bin/R CMD INSTALL hummingbird StartedAt: 2025-02-04 15:16:47 -0500 (Tue, 04 Feb 2025) EndedAt: 2025-02-04 15:16:51 -0500 (Tue, 04 Feb 2025) EllapsedTime: 3.4 seconds RetCode: 1 Status: ERROR