Package: hyperdraw Version: 1.59.0 Maintainer: Paul Murrell MaintainerEmail: p.murrell at auckland.ac.nz git_url: https://git.bioconductor.org/packages/hyperdraw git_branch: devel git_last_commit: b1686fd git_last_commit_date: 2024-10-29 09:33:05 -0500 (Tue, 29 Oct 2024)