Package: hyperdraw Version: 1.59.0 Command: rm -rf hyperdraw.buildbin-libdir && mkdir hyperdraw.buildbin-libdir && /Users/biocbuild/BBS/utils/build-universal.sh hyperdraw_1.59.0.tar.gz /Library/Frameworks/R.framework/Resources/bin/R hyperdraw.buildbin-libdir StartedAt: 2025-02-04 22:19:32 -0500 (Tue, 04 Feb 2025) EndedAt: 2025-02-04 22:19:35 -0500 (Tue, 04 Feb 2025) EllapsedTime: 3.1 seconds RetCode: 0 Status: OK PackageFile: hyperdraw_1.59.0.tgz PackageFileSize: 390.8 KiB