Package: hyperdraw Version: 1.59.0 Command: /Library/Frameworks/R.framework/Resources/bin/R CMD check --install=check:hyperdraw.install-out.txt --library=/Library/Frameworks/R.framework/Resources/library --no-vignettes --timings hyperdraw_1.59.0.tar.gz StartedAt: 2025-02-04 19:42:30 -0500 (Tue, 04 Feb 2025) EndedAt: 2025-02-04 19:42:44 -0500 (Tue, 04 Feb 2025) EllapsedTime: 14.2 seconds RetCode: 0 Status: OK CheckDir: hyperdraw.Rcheck Warnings: 0