Package: hyperdraw Version: 1.59.0 Command: /Library/Frameworks/R.framework/Resources/bin/R CMD INSTALL hyperdraw StartedAt: 2025-02-04 15:03:25 -0500 (Tue, 04 Feb 2025) EndedAt: 2025-02-04 15:03:28 -0500 (Tue, 04 Feb 2025) EllapsedTime: 2.5 seconds RetCode: 0 Status: OK