Package: hyperdraw Version: 1.59.0 Command: /home/biocbuild/R/R/bin/R CMD check --install=check:hyperdraw.install-out.txt --library=/home/biocbuild/R/R/site-library --no-vignettes --timings hyperdraw_1.59.0.tar.gz StartedAt: 2025-01-28 11:34:17 -0000 (Tue, 28 Jan 2025) EndedAt: 2025-01-28 11:34:51 -0000 (Tue, 28 Jan 2025) EllapsedTime: 34.0 seconds RetCode: 0 Status: OK CheckDir: hyperdraw.Rcheck Warnings: 0