Package: hyperdraw Version: 1.59.0 Command: /home/biocbuild/R/R/bin/R CMD INSTALL hyperdraw StartedAt: 2025-01-29 19:35:19 -0000 (Wed, 29 Jan 2025) EndedAt: 2025-01-29 19:35:28 -0000 (Wed, 29 Jan 2025) EllapsedTime: 8.8 seconds RetCode: 0 Status: OK