Package: hyperdraw Version: 1.59.0 Command: /home/biocbuild/bbs-3.21-bioc/R/bin/R CMD build --keep-empty-dirs --no-resave-data hyperdraw StartedAt: 2025-02-04 17:39:14 -0500 (Tue, 04 Feb 2025) EndedAt: 2025-02-04 17:39:24 -0500 (Tue, 04 Feb 2025) EllapsedTime: 10.0 seconds RetCode: 0 Status: OK PackageFile: hyperdraw_1.59.0.tar.gz PackageFileSize: 204.3 KiB