Package: hyperdraw Version: 1.59.0 Command: /home/biocbuild/bbs-3.21-bioc/R/bin/R CMD check --install=check:hyperdraw.install-out.txt --library=/home/biocbuild/bbs-3.21-bioc/R/site-library --timings hyperdraw_1.59.0.tar.gz StartedAt: 2025-02-04 23:12:47 -0500 (Tue, 04 Feb 2025) EndedAt: 2025-02-04 23:13:20 -0500 (Tue, 04 Feb 2025) EllapsedTime: 33.0 seconds RetCode: 0 Status: OK CheckDir: hyperdraw.Rcheck Warnings: 0