Package: hyperdraw Version: 1.59.0 Command: /home/biocbuild/bbs-3.21-bioc/R/bin/R CMD INSTALL hyperdraw StartedAt: 2025-02-04 15:13:16 -0500 (Tue, 04 Feb 2025) EndedAt: 2025-02-04 15:13:22 -0500 (Tue, 04 Feb 2025) EllapsedTime: 6.0 seconds RetCode: 0 Status: OK